
BEGIN:VCALENDAR
VERSION:2.0
PRODID:-//Old Schoolhouse Gallery - ECPv4.5.5//NONSGML v1.0//EN
CALSCALE:GREGORIAN
METHOD:PUBLISH
X-WR-CALNAME:Old Schoolhouse Gallery
X-ORIGINAL-URL:http://oldschoolhousegallery.org.au
X-WR-CALDESC:Events for Old Schoolhouse Gallery
BEGIN:VEVENT
DTSTART;TZID=UTC+0:20180203T183000
DTEND;TZID=UTC+0:20180203T203000
DTSTAMP:20180224T195736
CREATED:20180118T001227Z
LAST-MODIFIED:20180118T001227Z
UID:2070-1517682600-1517689800@oldschoolhousegallery.org.au
SUMMARY:Opening Night - All Members Exhibition
DESCRIPTION:Please follow and like us:
URL:http://oldschoolhousegallery.org.au/event/opening-night-all-members-exhibition
END:VEVENT
BEGIN:VEVENT
DTSTART;TZID=UTC+0:20180217T100000
DTEND;TZID=UTC+0:20180217T150000
DTSTAMP:20180224T195736
CREATED:20180117T224633Z
LAST-MODIFIED:20180117T224638Z
UID:1975-1518861600-1518879600@oldschoolhousegallery.org.au
SUMMARY:Hilary Wakeling ACRYLIC Workshops  - Palette Knife
DESCRIPTION:5 hr session: $80\nSaturdays 10am to 3.00pm\nWorkshops will be held next door\nto the Old Schoolhouse Gallery\nat the Lions Hall\, 124 Shore Street North\, Cleveland. \nPlease follow and like us:
URL:http://oldschoolhousegallery.org.au/event/hilary-wakeling-acrylic-workshops-palette-knife
ATTACH;FMTTYPE=image/jpeg:http://oldschoolhousegallery.org.au/wp-content/uploads/2018/01/Home-Alone2.jpg
END:VEVENT
BEGIN:VEVENT
DTSTART;TZID=UTC+0:20180303T180000
DTEND;TZID=UTC+0:20180303T200000
DTSTAMP:20180224T195736
CREATED:20180118T003158Z
LAST-MODIFIED:20180221T030956Z
UID:2095-1520100000-1520107200@oldschoolhousegallery.org.au
SUMMARY:MARCH EXHIBITION - Rocks Roots Fruits Opening Night
DESCRIPTION:Please follow and like us:
URL:http://oldschoolhousegallery.org.au/event/march-exhibition-rocks-roots-fruits-opening-night
ATTACH;FMTTYPE=image/jpeg:http://oldschoolhousegallery.org.au/wp-content/uploads/2018/01/Katias-invite.jpg
END:VEVENT
BEGIN:VEVENT
DTSTART;TZID=UTC+0:20180303T183000
DTEND;TZID=UTC+0:20180303T203000
DTSTAMP:20180224T195736
CREATED:20180221T031243Z
LAST-MODIFIED:20180221T031243Z
UID:2154-1520101800-1520109000@oldschoolhousegallery.org.au
SUMMARY:APRIL Opening : PAPER - Hilary Wakeling\, Kate Bray and Beatrice Lamont
DESCRIPTION:Please follow and like us:
URL:http://oldschoolhousegallery.org.au/event/april-opening-paper-hilary-wakeling-kate-bray-and-beatrice-lamont
END:VEVENT
END:VCALENDAR